BEGIN:VCALENDAR
VERSION:2.0
PRODID:-//Maryam Abacha American University of Nigeria - ECPv6.9.1//NONSGML v1.0//EN
CALSCALE:GREGORIAN
METHOD:PUBLISH
X-WR-CALNAME:Maryam Abacha American University of Nigeria
X-ORIGINAL-URL:https://maaun.edu.ng
X-WR-CALDESC:Events for Maryam Abacha American University of Nigeria
REFRESH-INTERVAL;VALUE=DURATION:PT1H
X-Robots-Tag:noindex
X-PUBLISHED-TTL:PT1H
BEGIN:VTIMEZONE
TZID:Africa/Lagos
BEGIN:STANDARD
TZOFFSETFROM:+0100
TZOFFSETTO:+0100
TZNAME:WAT
DTSTART:20250101T000000
END:STANDARD
END:VTIMEZONE
BEGIN:VEVENT
DTSTART;TZID=Africa/Lagos:20250528T090000
DTEND;TZID=Africa/Lagos:20250528T100000
DTSTAMP:20260419T142212
CREATED:20250527T141035Z
LAST-MODIFIED:20250527T141035Z
UID:1005187-1748422800-1748426400@maaun.edu.ng
SUMMARY:MoU Signing Ceremony between Maryam Abacha American University of Nigeria and Woldia University\, Ethiopia
DESCRIPTION:Maryam Abacha American University of Nigeria (MAAUN) is pleased to announce the upcoming Memorandum of Understanding (MoU) signing ceremony with Woldia University\, Ethiopia. \nThis significant event will be held online and is scheduled for: \n📅 Date: Wednesday\, May 28\, 2025🕘 Time: 09:00 AM (WAT)🌐 Format: Online Ceremony \nThe signing will take place in the esteemed presence of dignitaries from both institutions and is aimed at fostering academic collaboration and cross-border engagement. \nThe MoU is expected to promote: \n\n\nExchange of best academic practices \n\n\nJoint academic and research events \n\n\nCapacity building and institutional partnerships \n\n\nShared innovations in teaching\, learning\, and research \n\n\nThis strategic partnership marks another important step in MAAUN’s mission to globalize education and expand international cooperation. \nStay tuned for more updates and coverage of the signing ceremony.
URL:https://maaun.edu.ng/event/mou-signing-ceremony-between-maryam-abacha-american-university-of-nigeria-and-woldia-university-ethiopia/
LOCATION:Maryam Abacha American University of Nigeria\, No 5 Adamu Abubakar Gwarzo Road\, Hotoro GRA\, Kano\, Nigeria
ATTACH;FMTTYPE=image/jpeg:https://maaun.edu.ng/wp-content/uploads/2025/05/WhatsApp-Image-2025-05-27-at-13.23.50.jpeg
END:VEVENT
END:VCALENDAR