BEGIN:VCALENDAR
VERSION:2.0
PRODID:-//Maryam Abacha American University of Nigeria - ECPv6.9.1//NONSGML v1.0//EN
CALSCALE:GREGORIAN
METHOD:PUBLISH
X-WR-CALNAME:Maryam Abacha American University of Nigeria
X-ORIGINAL-URL:https://maaun.edu.ng
X-WR-CALDESC:Events for Maryam Abacha American University of Nigeria
REFRESH-INTERVAL;VALUE=DURATION:PT1H
X-Robots-Tag:noindex
X-PUBLISHED-TTL:PT1H
BEGIN:VTIMEZONE
TZID:Africa/Lagos
BEGIN:STANDARD
TZOFFSETFROM:+0100
TZOFFSETTO:+0100
TZNAME:WAT
DTSTART:20250101T000000
END:STANDARD
END:VTIMEZONE
BEGIN:VEVENT
DTSTART;VALUE=DATE:20250814
DTEND;VALUE=DATE:20250815
DTSTAMP:20260424T090019
CREATED:20250809T182851Z
LAST-MODIFIED:20250809T215630Z
UID:1006611-1755129600-1755215999@maaun.edu.ng
SUMMARY:MAAUN to Host the Summit of the Future Step Down Workshop in Kano State
DESCRIPTION:Maryam Abacha American University of Nigeria (MAAUN)\, Kano\, will proudly host the Summit of the Future Step Down Workshop – Kano State on 14th August 2025 at the Prof. Abubakar Adamu Rasheed Twin Lecture Theatre. \nThe workshop\, organized in collaboration with the United Nations Pact for the Future Step Down Consortium\, bringing together government leaders\, traditional rulers\, youth networks\, academia\, civil society\, and development partners to localize and drive the implementation of the United Nations Pact for the Future in Africa. \nDistinguished guests included: \n\nHis Excellency Engr. Abba Kabir Yusuf – Executive Governor of Kano State\nHis Excellency Aminu Abdussalam Gwarzo – Deputy Governor of Kano State\nMustapha Rabiu Kwankwaso – Commissioner for Youth and Sports\nHRH Muhammadu Sanusi Lamido – Emir of Kano\n\nThe event will feature technical sessions\, panel discussions\, and case studies on localizing global goals\, with a strong emphasis on youth empowerment\, sustainable development\, innovation\, and multi-stakeholder collaboration. \nThis initiative reaffirms MAAUN’s commitment to advancing education\, innovation\, and global partnerships that create meaningful change at both local and continental levels. \n📌 Together\, we are shaping a peaceful\, just\, and sustainable future for Africa.
URL:https://maaun.edu.ng/event/maaun-hosts-the-summit-of-the-future-step-down-workshop-in-kano-state/
ATTACH;FMTTYPE=image/jpeg:https://maaun.edu.ng/wp-content/uploads/2025/08/1.jpg
END:VEVENT
END:VCALENDAR