BEGIN:VCALENDAR
VERSION:2.0
PRODID:-//Maryam Abacha American University of Nigeria - ECPv6.9.1//NONSGML v1.0//EN
CALSCALE:GREGORIAN
METHOD:PUBLISH
X-ORIGINAL-URL:https://maaun.edu.ng
X-WR-CALDESC:Events for Maryam Abacha American University of Nigeria
REFRESH-INTERVAL;VALUE=DURATION:PT1H
X-Robots-Tag:noindex
X-PUBLISHED-TTL:PT1H
BEGIN:VTIMEZONE
TZID:Africa/Lagos
BEGIN:STANDARD
TZOFFSETFROM:+0100
TZOFFSETTO:+0100
TZNAME:WAT
DTSTART:20250101T000000
END:STANDARD
END:VTIMEZONE
BEGIN:VEVENT
DTSTART;TZID=Africa/Lagos:20250313T100000
DTEND;TZID=Africa/Lagos:20250313T120000
DTSTAMP:20260424T142353
CREATED:20250306T150137Z
LAST-MODIFIED:20250306T150137Z
UID:1003922-1741860000-1741867200@maaun.edu.ng
SUMMARY:Expert Session on Biotechnology in Healthcare at MAAUN Kano
DESCRIPTION:Maryam Abacha American University of Nigeria (MAAUN) Kano\, through the Department of Medical Laboratory Science\, School of Health Sciences\, is pleased to host an insightful expert session on: \n“Biotechnology in Healthcare: Innovations and Applications.” \n🎙 Guest Speaker:Dr. Gunnjeet KaurAssociate Dean\, School of Agricultural Sciences\, Career Point University\, India. \n📅 Date: Thursday\, 13th March 2025⏰ Time: 10:00 AM WAT📍 Venue: MAAUN Kano \nThis session will explore the latest breakthroughs in biotechnology and their impact on healthcare\, from cutting-edge research to real-world applications. \n🔴 Live Session – Don’t Miss Out!
URL:https://maaun.edu.ng/event/expert-session-on-biotechnology-in-healthcare-at-maaun-kano/
ATTACH;FMTTYPE=image/jpeg:https://maaun.edu.ng/wp-content/uploads/2025/03/WhatsApp-Image-2025-03-06-at-11.32.13.jpeg
END:VEVENT
BEGIN:VEVENT
DTSTART;VALUE=DATE:20250315
DTEND;VALUE=DATE:20250317
DTSTAMP:20260424T142353
CREATED:20250121T102113Z
LAST-MODIFIED:20250121T104815Z
UID:1002214-1741996800-1742169599@maaun.edu.ng
SUMMARY:Multidisciplinary Online International Conference: Sustainable Development Goals-Agenda 2030: The Way Ahead
DESCRIPTION:Call for Papers & Participation in Multidisciplinary Online International Conference: Sustainable Development Goals-Agenda 2030: The Way Ahead\n  \nMaryam Abacha American University of Nigeria in collaboration with Society for Pathways To Sustainability (PathS) and Maryam Abacha American University of Niger Calling all sustainability enthusiasts! \nJoin us for a Multidisciplinary Online International Conference on March 15-16\, 2025\, exploring the Sustainable Development Goals – Agenda 2030: The Way Ahead. Organized by @PathS_org\, this conference is a chance to connect with global experts and discuss the future of sustainability. Register now! #SDGs #Sustainability #MAAUN \nThe objectives of the conference are to evaluate current progress towards Agenda 2030 and identify key gaps\, to inspire stakeholders through successful case studies and innovative solutions\, to foster partnerships between governments\, businesses\, NGOs\, and academia to catalyse actions geared toward the sDGs\, and to develop actionable roadmaps for various sectors and regions that align with the SDGs. \nAgainst the backdrop\, the international conference on the theme ‘sustainable Development Goals-Agenda 2030: The Way Ahead’ intends to deliberate on sharing best practices\, identifying challenges\, and exploring multi-stakeholder partnerships that can drive sustainability initiatives forward. \n  \nSubmission Guidelines:\nInstructions for Authors: The interested participants may register by sending an abstract of research paper(up to 1000 words) or a poster by February 15\,2025. The extended abstract should contain the following sections: Introduction(200 words)\, Methodology/Conceptual framework (150 words)\, Rationale/justification of the study(100 words)\, Results and discussion(200 words) and Expected outcome and policy implication(350 words).The acceptance will be sent by February 17\,2025 and registration by February 20\,2025. \nFull research paper in MS-word format (Times New Roman\,Font-12\,line spacing 1.5 and 4000 – 6000 words in APA style) may be sent by March 5\, 2025. \nSend abstract/ paper at email: paths.maaun2025@gmail.com \n\nBest Paper Awards: Three Best paper awards (Rs.5100/-\,Rs.2100/-\,and Rs 2100/ – (USD 50\,40 and 30 respectively for foreign participants) will be given to encourage quality research. The best paper awards will be given to those participants who adhered to all guidelines of the conference abstract\, registration and full paper timely.\nPublication Opportunities: Selected quality papers shall be considered for publication in an Edited Book (ISBN) from a reputed international publisher or an International Journal. The publication of a paper will be subject to the referees’ decision and submission of a copyright agreement and zero plagiarism report.\nA list of peer reviewed journals\, UGC care listed journals and Scopus /WoS listed journals will also be displayed on the conference website for the publication of quality manuscripts submitted and presented in the conference as per the respective journal policy and APC (if any).\n\n\nSUB THEMES OF THE CONFERENCE\nHere are several sub-themes that could be explored during a two-day conference focused on the Sustainable Development Goals (SDGs): \n\nSustainable Supply chain Management\nInnovative Partnerships for Sustainable Development\nEntrepreneurship for Sustainable Development\nLegal Frameworks for sustainable Development\nCorporate Governance and Accountability\nClimate Action and Resilience\nEquity and Inclusion\nSocial Equity in Sustainable Development\nCommunity Resilience and Well-being\nClimate-Smart Agriculture\nSustainable Economic Growth\nTransforming Education for Sustainable Futures\nSustainable cities and communities\nArtificial Intelligence for Sustainable Development\nCybersecurity and Data Privacy in the Digital Age\nLiterature as a Catalyst for social change and Sustainability\nTechnology and Innovation for the SDGs\nHealth and Well-being\nFood Security and Sustainable Agriculture\nWater and Sanitation\nCultural Narratives and Environmental Awareness in Literature\nSustainable Business Practices\n\n  \n#SDGs\, #Sustainability\, #ClimateAction\, #GlobalGoals)
URL:https://maaun.edu.ng/event/multidisciplinary-online-international-conference-sustainable-development-goals-agenda-2030-the-way-ahead/
ATTACH;FMTTYPE=image/jpeg:https://maaun.edu.ng/wp-content/uploads/2025/01/cover.jpeg
END:VEVENT
BEGIN:VEVENT
DTSTART;TZID=Africa/Lagos:20250320T110000
DTEND;TZID=Africa/Lagos:20250320T120000
DTSTAMP:20260424T142353
CREATED:20250311T205533Z
LAST-MODIFIED:20250311T211440Z
UID:1003940-1742468400-1742472000@maaun.edu.ng
SUMMARY:Expert Session on Geosciences at MAAUN Kano
DESCRIPTION:Maryam Abacha American University of Nigeria (MAAUN)\, through the General Education Unit (Physics Specifics)\, is excited to host an enlightening expert session on: \n“Geosciences Uncovered: The Hidden Forces Shaping the Earth.” \n🎙 Guest Speaker:Prof. Mohammed Abubakar MohammedResearch Engineer\, Siberian School of Geosciences\, Irkutsk National Technical University\, Russia. \n📅 Date: Thursday\, 20th March 2025⏰ Time: 11:00 AM – 12:00 PM (WAT)📍 Venue: MAAUN Kano \n🔍 This session will delve into the intricate and powerful geological forces that shape our planet\, offering invaluable insights into geoscience research and its real-world applications. \n🔴 Live Session – Don’t Miss Out! \nStay tuned for updates! Follow @maaunigeria on social media.
URL:https://maaun.edu.ng/event/expert-session-on-geosciences-at-maaun-kano/
ATTACH;FMTTYPE=image/jpeg:https://maaun.edu.ng/wp-content/uploads/2025/03/WhatsApp-Image-2025-03-11-at-12.56.37.jpeg
END:VEVENT
BEGIN:VEVENT
DTSTART;TZID=Africa/Lagos:20250321T100000
DTEND;TZID=Africa/Lagos:20250321T120000
DTSTAMP:20260424T142353
CREATED:20250305T140242Z
LAST-MODIFIED:20250305T162452Z
UID:1003917-1742551200-1742558400@maaun.edu.ng
SUMMARY:Expert Session on AI & Software Development at MAAUN Kano
DESCRIPTION:Maryam Abacha American University of Nigeria (MAAUN) Kano\, through the Department of Cyber Security and Information Technology\, School of Computing\, is hosting an expert session on: \n“Artificial Intelligence and Software Development Process and Quality Assurance.” \n🎙 Guest Speaker:Prof. (Dr.) Pastor Reglos Arguelles JR.Director of Research and Publication Office\, University of Batangas\, Lipa City\, Philippines. \n📅 Date: Friday\, 21st March 2025⏰ Time: 10:00 AM WAT📍 Venue: President Conference Room🔴 Live Session \nThis session will provide valuable insights into AI\, software development methodologies\, and quality assurance\, helping students and faculty stay ahead in the evolving tech landscape. \nDon’t miss out! 🚀
URL:https://maaun.edu.ng/event/expert-session-on-ai-software-development-at-maaun-kano/
ATTACH;FMTTYPE=image/jpeg:https://maaun.edu.ng/wp-content/uploads/2025/03/Workshop.jpg
END:VEVENT
END:VCALENDAR